BEGIN:VCALENDAR
VERSION:2.0
PRODID:-//Summit Pointe Advisors - ECPv6.15.20//NONSGML v1.0//EN
CALSCALE:GREGORIAN
METHOD:PUBLISH
X-ORIGINAL-URL:https://summitpointeadvisors.com
X-WR-CALDESC:Events for Summit Pointe Advisors
REFRESH-INTERVAL;VALUE=DURATION:PT1H
X-Robots-Tag:noindex
X-PUBLISHED-TTL:PT1H
BEGIN:VTIMEZONE
TZID:America/New_York
BEGIN:DAYLIGHT
TZOFFSETFROM:-0500
TZOFFSETTO:-0400
TZNAME:EDT
DTSTART:20240310T070000
END:DAYLIGHT
BEGIN:STANDARD
TZOFFSETFROM:-0400
TZOFFSETTO:-0500
TZNAME:EST
DTSTART:20241103T060000
END:STANDARD
BEGIN:DAYLIGHT
TZOFFSETFROM:-0500
TZOFFSETTO:-0400
TZNAME:EDT
DTSTART:20250309T070000
END:DAYLIGHT
BEGIN:STANDARD
TZOFFSETFROM:-0400
TZOFFSETTO:-0500
TZNAME:EST
DTSTART:20251102T060000
END:STANDARD
BEGIN:DAYLIGHT
TZOFFSETFROM:-0500
TZOFFSETTO:-0400
TZNAME:EDT
DTSTART:20260308T070000
END:DAYLIGHT
BEGIN:STANDARD
TZOFFSETFROM:-0400
TZOFFSETTO:-0500
TZNAME:EST
DTSTART:20261101T060000
END:STANDARD
END:VTIMEZONE
BEGIN:VEVENT
DTSTART;TZID=America/New_York:20251022T160000
DTEND;TZID=America/New_York:20251022T180000
DTSTAMP:20260419T141806
CREATED:20251017T163448Z
LAST-MODIFIED:20251030T152106Z
UID:10000003-1761148800-1761156000@summitpointeadvisors.com
SUMMARY:Pickleball Lessons & Practice
DESCRIPTION:Join us in participating in one of the fastest growing sports in America. \nWe’d love to have you join us for a fun and relaxed afternoon of pickleball\, light bites\, and \ngood conversation. This evening will be centered around the topics of both financial and physical wellness with a special guest and sponsor\, Leslie Reinhart from American Funds. \nFeel free to bring a friend or family member! \nWe’ll kick things off with two experienced coaches for the first hour to help guide beginners and sharpen skills for those returning to the court. Enjoy open play\, food\, and mocktails while mingling with fellow clients\, friends\, and our team. \nWhether you’re on the court or cheering from the sidelines\, it’s a great way to connect and recharge. \nWhat is Pickleball? \nPickleball is a sport that blends elements of tennis\, badminton\, and ping-pong. It’s easy to learn\, great for all ages\, and perfect for social play. Invented in 1965 on Bainbridge Island\, Washington\, it started as a backyard game and has since become one of the most popular recreational sports in the country. \nPickleball Basics \n\nGames are played to 11 points\, win by 2\nYou serve underhand diagonally across the court\nOnly the serving team can score points\nThe ball must bounce once on each side before volleys begin\nNo volleying in the “kitchen” (the non-volley zone near the net)\n\nNo gear or experience needed—we’ll provide everything. Just wear comfortable clothes and court shoes if you have them. \nPlease note that an RSVP is required for this event as there is a waiver that needs to be completed prior to play. \n\nRSVP Here
URL:https://summitpointeadvisors.com/event/pickleball-lessons-practice/
LOCATION:Smash Point Pickleball\, 97 Gateway Dr\, Mechanicsburg\, PA\, 17050\, United States
ATTACH;FMTTYPE=image/jpeg:https://summitpointeadvisors.com/wp-content/uploads/2025/10/unnamed-4.jpg
END:VEVENT
END:VCALENDAR